BEGIN:VCALENDAR
VERSION:2.0
PRODID:-//Andrea: Tantramassage - kuscheln und mehr - ECPv6.0.7.1//NONSGML v1.0//EN
CALSCALE:GREGORIAN
METHOD:PUBLISH
X-WR-CALNAME:Andrea: Tantramassage - kuscheln und mehr
X-ORIGINAL-URL:https://andrea.tantraekstase.de
X-WR-CALDESC:Veranstaltungen für Andrea: Tantramassage - kuscheln und mehr
REFRESH-INTERVAL;VALUE=DURATION:PT1H
X-Robots-Tag:noindex
X-PUBLISHED-TTL:PT1H
BEGIN:VTIMEZONE
TZID:Europe/Berlin
BEGIN:DAYLIGHT
TZOFFSETFROM:+0100
TZOFFSETTO:+0200
TZNAME:CEST
DTSTART:20230326T010000
END:DAYLIGHT
BEGIN:STANDARD
TZOFFSETFROM:+0200
TZOFFSETTO:+0100
TZNAME:CET
DTSTART:20231029T010000
END:STANDARD
END:VTIMEZONE
BEGIN:VEVENT
DTSTART;TZID=Europe/Berlin:20230128T180000
DTEND;TZID=Europe/Berlin:20230128T200000
DTSTAMP:20260424T215616
CREATED:20230122T211801Z
LAST-MODIFIED:20230122T211801Z
UID:76-1674928800-1674936000@andrea.tantraekstase.de
SUMMARY:Kuscheln
DESCRIPTION:Geburtstagskuscheln
URL:https://andrea.tantraekstase.de/event/kuscheln/
LOCATION:Im neuen Garten
END:VEVENT
END:VCALENDAR