BEGIN:VCALENDAR
VERSION:2.0
PRODID:-//Andrea: Tantramassage - kuscheln und mehr - ECPv6.0.7.1//NONSGML v1.0//EN
CALSCALE:GREGORIAN
METHOD:PUBLISH
X-ORIGINAL-URL:https://andrea.tantraekstase.de
X-WR-CALDESC:Veranstaltungen für Andrea: Tantramassage - kuscheln und mehr
REFRESH-INTERVAL;VALUE=DURATION:PT1H
X-Robots-Tag:noindex
X-PUBLISHED-TTL:PT1H
BEGIN:VTIMEZONE
TZID:Europe/Berlin
BEGIN:DAYLIGHT
TZOFFSETFROM:+0100
TZOFFSETTO:+0200
TZNAME:CEST
DTSTART:20230326T010000
END:DAYLIGHT
BEGIN:STANDARD
TZOFFSETFROM:+0200
TZOFFSETTO:+0100
TZNAME:CET
DTSTART:20231029T010000
END:STANDARD
END:VTIMEZONE
BEGIN:VEVENT
DTSTART;TZID=Europe/Berlin:20230216T193000
DTEND;TZID=Europe/Berlin:20230216T223000
DTSTAMP:20260424T180502
CREATED:20230122T225204Z
LAST-MODIFIED:20230122T225204Z
UID:90-1676575800-1676586600@andrea.tantraekstase.de
SUMMARY:Kuschelzeit
DESCRIPTION:es darf wieder gekuschelt werden
URL:https://andrea.tantraekstase.de/event/kuschelzeit/
LOCATION:Im neuen Garten
END:VEVENT
END:VCALENDAR